BEGIN:VCALENDAR
VERSION:2.0
PRODID:-//Church of the Lakes - ECPv6.15.20//NONSGML v1.0//EN
CALSCALE:GREGORIAN
METHOD:PUBLISH
X-WR-CALNAME:Church of the Lakes
X-ORIGINAL-URL:https://churchofthelakes.org
X-WR-CALDESC:Events for Church of the Lakes
REFRESH-INTERVAL;VALUE=DURATION:PT1H
X-Robots-Tag:noindex
X-PUBLISHED-TTL:PT1H
BEGIN:VTIMEZONE
TZID:America/New_York
BEGIN:DAYLIGHT
TZOFFSETFROM:-0500
TZOFFSETTO:-0400
TZNAME:EDT
DTSTART:20250309T070000
END:DAYLIGHT
BEGIN:STANDARD
TZOFFSETFROM:-0400
TZOFFSETTO:-0500
TZNAME:EST
DTSTART:20251102T060000
END:STANDARD
BEGIN:DAYLIGHT
TZOFFSETFROM:-0500
TZOFFSETTO:-0400
TZNAME:EDT
DTSTART:20260308T070000
END:DAYLIGHT
BEGIN:STANDARD
TZOFFSETFROM:-0400
TZOFFSETTO:-0500
TZNAME:EST
DTSTART:20261101T060000
END:STANDARD
BEGIN:DAYLIGHT
TZOFFSETFROM:-0500
TZOFFSETTO:-0400
TZNAME:EDT
DTSTART:20270314T070000
END:DAYLIGHT
BEGIN:STANDARD
TZOFFSETFROM:-0400
TZOFFSETTO:-0500
TZNAME:EST
DTSTART:20271107T060000
END:STANDARD
END:VTIMEZONE
BEGIN:VEVENT
DTSTART;TZID=America/New_York:20260508T190000
DTEND;TZID=America/New_York:20260508T200000
DTSTAMP:20260423T152719
CREATED:20260306T191220Z
LAST-MODIFIED:20260306T191242Z
UID:12143-1778266800-1778270400@churchofthelakes.org
SUMMARY:Spring Concert
DESCRIPTION:Join us on Friday\, May 8th\, 7:00 pm\, for a concert featuring Dr. Jason Priset and Eileen Moore. Jason—Jared’s twin brother—is a gifted musician who will be performing on renaissance lute\, joined by Eileen\, soprano. Their program\, “Lutany\, Love Songs and Laments\,” promises to be a beautiful and moving evening of music. \n  \nWe are launching a new concert series at the church—an opportunity to bring excellent music to our congregation and to the wider community. Each event will include a free will offering to help sustain the series\, and we are also beginning to build a financial foundation to support it. If you feel led to contribute\, donations may be made to the church with “Concert Series” noted on the check.
URL:https://churchofthelakes.org/event/concert-series/
LOCATION:Church of the Lakes\, 5944 Fulton Dr NW\, Canton\, OH\, 44718\, United States
CATEGORIES:Connect
ORGANIZER;CN="Dean Wagner":MAILTO:dean@churchofthelakes.org
END:VEVENT
END:VCALENDAR