BEGIN:VCALENDAR
VERSION:2.0
PRODID:-//Church of the Lakes - ECPv6.15.20//NONSGML v1.0//EN
CALSCALE:GREGORIAN
METHOD:PUBLISH
X-WR-CALNAME:Church of the Lakes
X-ORIGINAL-URL:https://churchofthelakes.org
X-WR-CALDESC:Events for Church of the Lakes
REFRESH-INTERVAL;VALUE=DURATION:PT1H
X-Robots-Tag:noindex
X-PUBLISHED-TTL:PT1H
BEGIN:VTIMEZONE
TZID:America/New_York
BEGIN:DAYLIGHT
TZOFFSETFROM:-0500
TZOFFSETTO:-0400
TZNAME:EDT
DTSTART:20250309T070000
END:DAYLIGHT
BEGIN:STANDARD
TZOFFSETFROM:-0400
TZOFFSETTO:-0500
TZNAME:EST
DTSTART:20251102T060000
END:STANDARD
BEGIN:DAYLIGHT
TZOFFSETFROM:-0500
TZOFFSETTO:-0400
TZNAME:EDT
DTSTART:20260308T070000
END:DAYLIGHT
BEGIN:STANDARD
TZOFFSETFROM:-0400
TZOFFSETTO:-0500
TZNAME:EST
DTSTART:20261101T060000
END:STANDARD
BEGIN:DAYLIGHT
TZOFFSETFROM:-0500
TZOFFSETTO:-0400
TZNAME:EDT
DTSTART:20270314T070000
END:DAYLIGHT
BEGIN:STANDARD
TZOFFSETFROM:-0400
TZOFFSETTO:-0500
TZNAME:EST
DTSTART:20271107T060000
END:STANDARD
END:VTIMEZONE
BEGIN:VEVENT
DTSTART;TZID=America/New_York:20260516T093000
DTEND;TZID=America/New_York:20260516T143000
DTSTAMP:20260423T113750
CREATED:20250704T190234Z
LAST-MODIFIED:20260416T141208Z
UID:9939-1778923800-1778941800@churchofthelakes.org
SUMMARY:Blood Drive
DESCRIPTION:Donate blood through American Red Cross – blood donation is extremely safe\, and in critical need.\nClick here to register\nYou don’t need a special reason to give blood. You just need your own reason. \n\n\n\nSome of us give blood because we were asked by a friend.\nSome know that a family member or a friend might need blood some day.\nSome believe it is the right thing to do.\nSome do it for the free cookies and juice.\n\nEveryone enjoys the great feeling of helping save lives! \nPlease read the updated requirements and regulations for blood donations.
URL:https://churchofthelakes.org/event/blood-drive/
LOCATION:Church of the Lakes\, 5944 Fulton Dr NW\, Canton\, OH\, 44718\, United States
ATTACH;FMTTYPE=image/webp:https://churchofthelakes.org/wp-content/uploads/2025/06/image-5-e1751655728258.webp
END:VEVENT
END:VCALENDAR