BEGIN:VCALENDAR
VERSION:2.0
PRODID:-//Church of the Lakes - ECPv6.15.20//NONSGML v1.0//EN
CALSCALE:GREGORIAN
METHOD:PUBLISH
X-WR-CALNAME:Church of the Lakes
X-ORIGINAL-URL:https://churchofthelakes.org
X-WR-CALDESC:Events for Church of the Lakes
REFRESH-INTERVAL;VALUE=DURATION:PT1H
X-Robots-Tag:noindex
X-PUBLISHED-TTL:PT1H
BEGIN:VTIMEZONE
TZID:America/New_York
BEGIN:DAYLIGHT
TZOFFSETFROM:-0500
TZOFFSETTO:-0400
TZNAME:EDT
DTSTART:20240310T070000
END:DAYLIGHT
BEGIN:STANDARD
TZOFFSETFROM:-0400
TZOFFSETTO:-0500
TZNAME:EST
DTSTART:20241103T060000
END:STANDARD
BEGIN:DAYLIGHT
TZOFFSETFROM:-0500
TZOFFSETTO:-0400
TZNAME:EDT
DTSTART:20250309T070000
END:DAYLIGHT
BEGIN:STANDARD
TZOFFSETFROM:-0400
TZOFFSETTO:-0500
TZNAME:EST
DTSTART:20251102T060000
END:STANDARD
BEGIN:DAYLIGHT
TZOFFSETFROM:-0500
TZOFFSETTO:-0400
TZNAME:EDT
DTSTART:20260308T070000
END:DAYLIGHT
BEGIN:STANDARD
TZOFFSETFROM:-0400
TZOFFSETTO:-0500
TZNAME:EST
DTSTART:20261101T060000
END:STANDARD
END:VTIMEZONE
BEGIN:VEVENT
DTSTART;TZID=America/New_York:20251124T183000
DTEND;TZID=America/New_York:20251124T193000
DTSTAMP:20260423T173330
CREATED:20251105T212408Z
LAST-MODIFIED:20251105T212408Z
UID:10835-1764009000-1764012600@churchofthelakes.org
SUMMARY:Annual Charge Conference
DESCRIPTION:The Annual Charge Conference will be held on Monday\, November 24th\, 6:30 pm in room 206. The purpose of the Charge Conference is to review committee nominations\, membership rolls and clergy salaries. All church members are welcome to attend.
URL:https://churchofthelakes.org/event/annual-charge-conference/
LOCATION:Church of the Lakes\, 5944 Fulton Dr NW\, Canton\, OH\, 44718\, United States
CATEGORIES:Explore
ATTACH;FMTTYPE=image/png:https://churchofthelakes.org/wp-content/uploads/2025/07/Conference-e1753276845188.png
END:VEVENT
BEGIN:VEVENT
DTSTART;TZID=America/New_York:20251109T160000
DTEND;TZID=America/New_York:20251109T170000
DTSTAMP:20260423T173330
CREATED:20250924T201657Z
LAST-MODIFIED:20250924T201657Z
UID:10519-1762704000-1762707600@churchofthelakes.org
SUMMARY:Organ Recital
DESCRIPTION:Our new organist\, Dean Wagner\, will present an organ recital featuring a variety of music to show off our excellent pipe organ. \nThe program will include music by Johnson\, Pachelbel\, de Grigny\, Bach\, Peeters\, Bovet\, and Mendelssohn. \nBe prepared\, this music will even take us to a bull fight\, you will have to come to find out what that is all about! \nThe organ is able to move out to the center of the Chancel so that you are able to see as well as listen. We hope to see you there.
URL:https://churchofthelakes.org/event/organ-recital/
LOCATION:Church of the Lakes\, 5944 Fulton Dr NW\, Canton\, OH\, 44718\, United States
CATEGORIES:Connect
ATTACH;FMTTYPE=image/jpeg:https://churchofthelakes.org/wp-content/uploads/2025/09/Music-Ministry.jpg
END:VEVENT
BEGIN:VEVENT
DTSTART;TZID=America/New_York:20251109T080000
DTEND;TZID=America/New_York:20251116T120000
DTSTAMP:20260423T173330
CREATED:20251104T214747Z
LAST-MODIFIED:20251104T214801Z
UID:10819-1762675200-1763294400@churchofthelakes.org
SUMMARY:Bag Sunday
DESCRIPTION:The Total Living Center is working to help families overcome food insecurity in Canton. Our ‘Bag Sunday’ is more important than ever. Paper bags and the list of items needed are available at the church starting on Sunday\, November 9th or you can bring donations in other paper or plastic bags. Bring your donations to church on Sunday\, November 16th by noon. Place items in the designated areas just inside the double doors. \nThe Total Living Center has requested that we focus on donating the following items to help prepare for a holiday meal:\ncans of corn\nboxes of stuffing\nboxes of cornbread mix\ncanned cranberry sauce\ncans of yams/sweet potatoes\nbags of brown sugar\nbags of marshmallows
URL:https://churchofthelakes.org/event/10819/
LOCATION:Church of the Lakes\, 5944 Fulton Dr NW\, Canton\, OH\, 44718\, United States
CATEGORIES:Serve
ATTACH;FMTTYPE=image/jpeg:https://churchofthelakes.org/wp-content/uploads/2025/11/Bag-Sunday.jpg
ORGANIZER;CN="Angela Fritz":MAILTO:angela@churchofthelakes.org
END:VEVENT
BEGIN:VEVENT
DTSTART;TZID=America/New_York:20251108T093000
DTEND;TZID=America/New_York:20251108T113000
DTSTAMP:20260423T173330
CREATED:20250704T183317Z
LAST-MODIFIED:20250704T183620Z
UID:9915-1762594200-1762601400@churchofthelakes.org
SUMMARY:Surviving the Holidays - GriefShare & DivorceCare
DESCRIPTION:Wondering how you will survive the weeks surrounding Thanksgiving and Christmas? Are you dreading these holidays\, knowing that everything has changed and that happy memories from past years can’t be recreated? \nOur Surviving the Holidays GriefShare seminar is designed to help navigate the emotions & changes that come around the holidays while grieving the loss of a loved one. This is for ANYONE in congregation or community who wants some practical ideas and help on how to get through the holidays. This session stands alone – you do not have to be part of GriefShare. \nOur Surviving the Holidays DivorceCare seminar is designed to help navigate the emotions & changes that come around the holidays while dealing with separation or divorce. This is for ANYONE in congregation or community who wants some practical ideas and help on how to get through the holidays. This session stands alone – you do not have to be part of DivorceCare. \nA time of fellowship will follow the Surviving the Holidays sessions. To register contact the church office\, 330-499-8972.
URL:https://churchofthelakes.org/event/surviving-the-holidays-griefshare-divorcecare/
LOCATION:Church of the Lakes\, 5944 Fulton Dr NW\, Canton\, OH\, 44718\, United States
ATTACH;FMTTYPE=image/jpeg:https://churchofthelakes.org/wp-content/uploads/2025/07/survive-holidays.jpg
ORGANIZER;CN="Nancy Conley":MAILTO:nancyc@churchofthelakes.org
END:VEVENT
BEGIN:VEVENT
DTSTART;TZID=America/New_York:20251108T080000
DTEND;TZID=America/New_York:20251108T140000
DTSTAMP:20260423T173330
CREATED:20250918T195300Z
LAST-MODIFIED:20250918T195300Z
UID:10479-1762588800-1762610400@churchofthelakes.org
SUMMARY:Lil Lambs Closet - Toy Sale
DESCRIPTION:Start your holiday shopping in a department store atmosphere at a fraction of the cost. 30% of the proceeds go to children in need. \nFind great deals on: Toys\, Games\, Movies\, Books\, Electronics\, Ride-on Toys\, Bikes\, Sports\, Outdoor Toys\, Play Furniture & Toy Storage\, Costumes\, Arts & Crafts\, Puzzles\, Winter Snow Coats/Snow Boots. \nThe sale accepts cash\, check and credit cards
URL:https://churchofthelakes.org/event/lil-lambs-closet-toy-sale/
LOCATION:Church of the Lakes\, 5944 Fulton Dr NW\, Canton\, OH\, 44718\, United States
CATEGORIES:Serve
ATTACH;FMTTYPE=image/jpeg:https://churchofthelakes.org/wp-content/uploads/2015/07/lil-lambs-closet-web-e1751655532740.jpg
END:VEVENT
BEGIN:VEVENT
DTSTART;TZID=America/New_York:20251102T083000
DTEND;TZID=America/New_York:20251107T163000
DTSTAMP:20260423T173330
CREATED:20251031T173728Z
LAST-MODIFIED:20251031T174445Z
UID:10767-1762072200-1762533000@churchofthelakes.org
SUMMARY:Heart Gallery
DESCRIPTION:Stark County JFS – Children Services Division organizes an annual art exhibit called the Heart Gallery\, which raises awareness about foster care and adoption in Stark County. The Heart Gallery pairs local artists with children in foster care who are awaiting adoption to create powerful\, heartfelt portraits. These portraits are then displayed in community spaces throughout the county to help share the children’s stories and bring attention to their need for loving\, permanent homes. \nThe Heart Gallery will be displayed in our entryway November 2nd – November 7th. \nYou can view the gallery during normal church and church office hours: \nSunday 8:00 am – 12:00 pm \nMonday – Friday 8:30 am – 4:30 pm
URL:https://churchofthelakes.org/event/heart-gallery/
LOCATION:Church of the Lakes\, 5944 Fulton Dr NW\, Canton\, OH\, 44718\, United States
CATEGORIES:Explore
ATTACH;FMTTYPE=image/jpeg:https://churchofthelakes.org/wp-content/uploads/2025/10/Heart-Gallery.jpg
END:VEVENT
BEGIN:VEVENT
DTSTART;TZID=America/New_York:20251026T100000
DTEND;TZID=America/New_York:20251026T113000
DTSTAMP:20260423T173330
CREATED:20250909T184417Z
LAST-MODIFIED:20250912T190852Z
UID:10428-1761472800-1761478200@churchofthelakes.org
SUMMARY:All Church Worship Service
DESCRIPTION:SAVE THE DATE: Sunday\, October 26th\nWe are having a single worship service at 10:00 am in the Jackson High School Center for Performing Arts. ALL worship services (Traditional & Contemporary) will be combined into a single service. We are always ONE Church\, this is a day to celebrate our Church together in ONE Worship Service. \nChildcare will be available at the High School for children 5 and under. All others are encouraged to join for worship. \nRegister your child (5 and under) for childcare during this service \nIf you would like to help with this service contact Tricia Talbott.
URL:https://churchofthelakes.org/event/all-church-worship-service/
LOCATION:Jackson High School Center for Performing Arts\, 7600 Fulton Dr NW\, Massillon\, Ohio\, 44646
CATEGORIES:Connect
ATTACH;FMTTYPE=image/jpeg:https://churchofthelakes.org/wp-content/uploads/2025/09/All-Church-Worship.jpg
END:VEVENT
BEGIN:VEVENT
DTSTART;TZID=America/New_York:20251018T143000
DTEND;TZID=America/New_York:20251018T160000
DTSTAMP:20260423T173330
CREATED:20250724T182403Z
LAST-MODIFIED:20250909T153021Z
UID:10080-1760797800-1760803200@churchofthelakes.org
SUMMARY:Trunk & Treat
DESCRIPTION:Join us for our annual community Trunk & Treat event. It will be in the Church parking lot. This is a safe\, free and fun Trick or Treating event that is open to the community. \nChildren and parents are encouraged to wear family-friendly costumes. \nIn case of rain\, this event will be canceled.
URL:https://churchofthelakes.org/event/trunk-treat/
LOCATION:Church of the Lakes\, 5944 Fulton Dr NW\, Canton\, OH\, 44718\, United States
CATEGORIES:Explore
ATTACH;FMTTYPE=image/jpeg:https://churchofthelakes.org/wp-content/uploads/2025/07/Trunk-Treat-scaled-e1753381437998.jpg
ORGANIZER;CN="Mardy DiGiacinto":MAILTO:Mardy@churchofthelakes.org
END:VEVENT
BEGIN:VEVENT
DTSTART;TZID=America/New_York:20251009T180000
DTEND;TZID=America/New_York:20251009T200000
DTSTAMP:20260423T173330
CREATED:20250902T185824Z
LAST-MODIFIED:20250902T185824Z
UID:10365-1760032800-1760040000@churchofthelakes.org
SUMMARY:Estate Planning Dinner
DESCRIPTION:We are hosting a free estate planning session open to all members of our congregation. Join us on Thursday\, October 9th\, 6:00 pm at Shady Hollow. The evening will include dinner and an informational program by Brian Layman\, a Church of the Lakes member and Financial Planner. Topics covered are estate planning timeline\, tips\, Church of the Lakes endowment\, and Q&A session. This free program requires RSVP by September 30th. \nClick here to RSVP
URL:https://churchofthelakes.org/event/estate-planning-dinner/
LOCATION:Shady Hollow Country Club\, 4865 Wales Ave NW\, Massillon\, OH\, 44646
ATTACH;FMTTYPE=image/png:https://churchofthelakes.org/wp-content/uploads/2025/09/Estate-planning.png
ORGANIZER;CN="Stephanie Strock":MAILTO:stephanie@churchofthelakes.org
END:VEVENT
BEGIN:VEVENT
DTSTART;TZID=America/New_York:20250914T150000
DTEND;TZID=America/New_York:20250914T190000
DTSTAMP:20260423T173330
CREATED:20250704T184041Z
LAST-MODIFIED:20250704T184359Z
UID:9923-1757862000-1757876400@churchofthelakes.org
SUMMARY:Jesus in the Home - Family Fun Day
DESCRIPTION:Join your friends from Church of the Lakes for a family day of fun on the farm at Nickajack Farms \nSunday\, September 14th \n3:00 – 7:00 pm \nFamilies will get to experience all the fall fest activities that Nickajack has to offer including the corn maze\, gourd golf\, pumpkin bowling\, corn box\, hay ride\, Toddler town\, bubble station and so much more. \nOur church has reserved a bonfire location and will provide hot dogs\, chips\, water\, and S’more treats. Other concessions will be available for purchase. \nThe cost of this event is $8/person (kids under 2 are free) \nClick here to register
URL:https://churchofthelakes.org/event/jesus-in-the-home-family-fun-day/
LOCATION:Nickajack Farms\, 2955 Manchester Ave NW\, North Lawrence\, Ohio\, 44666
ATTACH;FMTTYPE=image/jpeg:https://churchofthelakes.org/wp-content/uploads/2025/07/Nickajack-Farms-Logo-e1751654422482.jpg
ORGANIZER;CN="Cara Haley":MAILTO:cara@churchofthelakes.org
END:VEVENT
BEGIN:VEVENT
DTSTART;TZID=America/New_York:20250910T173000
DTEND;TZID=America/New_York:20251112T193000
DTSTAMP:20260423T173330
CREATED:20250723T131722Z
LAST-MODIFIED:20250723T131722Z
UID:10060-1757525400-1762975800@churchofthelakes.org
SUMMARY:TNT Fall
DESCRIPTION:Solving the Bible’s Toughest Cases!\nThis Fall kids will investigate Bible stories that tend to raise some serious questions. Kids will ask questions\, investigate the evidence\, and solve the case. During this detective themed TNT\, kids will learn that we can trust that God has a plan\, even if we don’t fully understand it. \nTNT “Together-N- Truth” is for children Kindergarten-4th grade. Our Fall semester is 10 weeks Wednesday\, September 10th – November 12th The cost is $5/week or $45 for the entire semester if paid in advance (this helps to cover the cost of dinner and supplies). \nOur explosive Wednesday evening programs ignite New Life through Jesus in children and youth by teaching the Word of God. Our desire is to create a powerful understanding of who Jesus is and how He can work in the lives of children to bring a dynamic transformation of their heart. \nWednesday Evenings begin with dinner at 5:30 pm followed by T-N-T from 6:00 to 7:30 pm: \nThis semester Children will rotate through 3 stations :\n1) Bible Discovery- encountering God’s presence through creating deeper Bible experiences\n2) Exploration Station- exploring God’s word through imagination and creativity to gain a deeper understanding\n3) Recreation- engaging scripture memorization through physical activities. \nClick here to see the weekly themes and dinner menu. For fun\, encourage your child to get decked-out for our weekly themes. For your child’s safety…please do not send children in flip flops. \nTo register your child for T-N-T click here.\nIf you have any questions or concerns contact Angela\, 330-499-8972.
URL:https://churchofthelakes.org/event/tnt-fall/
LOCATION:Church of the Lakes\, 5944 Fulton Dr NW\, Canton\, OH\, 44718\, United States
CATEGORIES:Explore
ATTACH;FMTTYPE=image/jpeg:https://churchofthelakes.org/wp-content/uploads/2020/11/TnT-Logo-Banner.jpg
ORGANIZER;CN="Angela Fritz":MAILTO:angela@churchofthelakes.org
END:VEVENT
BEGIN:VEVENT
DTSTART;TZID=America/New_York:20250825T190000
DTEND;TZID=America/New_York:20250825T193000
DTSTAMP:20260423T173330
CREATED:20250723T132056Z
LAST-MODIFIED:20250723T132056Z
UID:10066-1756148400-1756150200@churchofthelakes.org
SUMMARY:Special Charge Conference
DESCRIPTION:On Monday\, August 25th\, 7:00 pm in room 206\, we will have a special charge conference for the purpose of recommending Robby Strock and Char Messenger as candidates for ordained ministry. The charge conference will proceed the regularly scheduled Leadership Meeting. All church members are welcome to attend.
URL:https://churchofthelakes.org/event/special-charge-conference/
LOCATION:Church of the Lakes\, 5944 Fulton Dr NW\, Canton\, OH\, 44718\, United States
ATTACH;FMTTYPE=image/png:https://churchofthelakes.org/wp-content/uploads/2025/07/Conference-e1753276845188.png
END:VEVENT
BEGIN:VEVENT
DTSTART;TZID=America/New_York:20250817T123000
DTEND;TZID=America/New_York:20250817T150000
DTSTAMP:20260423T173330
CREATED:20250704T184703Z
LAST-MODIFIED:20250704T184703Z
UID:9930-1755433800-1755442800@churchofthelakes.org
SUMMARY:Annual Church Picnic
DESCRIPTION:Join your church family for the Church of the Lakes Annual Picnic. This year’s festivities will take place at the church\, in the Activity Center and parking lot. Please bring a dish to share. Hotdogs\, buns and drinks are provided\, the meal will begin at 12:30 pm. \nThere will be a giant slide\, a jump house\, and games for the kids. We will also have a special game to learn more about our staff. In addition we will have prizes for the games and even door prizes this year. \nContact Cara Haley\, with questions or to volunteer for this event.
URL:https://churchofthelakes.org/event/annual-church-picnic/
LOCATION:Church of the Lakes\, 5944 Fulton Dr NW\, Canton\, OH\, 44718\, United States
ATTACH;FMTTYPE=image/png:https://churchofthelakes.org/wp-content/uploads/2025/06/image-4-e1751654755260.png
ORGANIZER;CN="Cara Haley":MAILTO:cara@churchofthelakes.org
END:VEVENT
BEGIN:VEVENT
DTSTART;TZID=America/New_York:20250808T100000
DTEND;TZID=America/New_York:20250809T120000
DTSTAMP:20260423T173330
CREATED:20250704T185957Z
LAST-MODIFIED:20250704T190027Z
UID:9937-1754647200-1754740800@churchofthelakes.org
SUMMARY:Lil Lambs Closet - Fall & Winter Sale
DESCRIPTION:Come shop our sale. Lots of deals on children’s clothing from infant to teen sizes! We also have children’s/nursery furniture\, books\, baby items and outside toys.\n30% of all proceeds go to children in need. \nWHEN: \nFriday\, August 8th  10:00 am – 7:00 pm\nSaturday\, August 9th  8:00 am – 12:00 pm \nFor more information or to sign up to volunteer or consign visit:\nwww.cotl-lillambscloset.com
URL:https://churchofthelakes.org/event/lil-lambs-closet-fall-winter-sale/
LOCATION:Church of the Lakes\, 5944 Fulton Dr NW\, Canton\, OH\, 44718\, United States
ATTACH;FMTTYPE=image/jpeg:https://churchofthelakes.org/wp-content/uploads/2015/07/lil-lambs-closet-web-e1751655532740.jpg
END:VEVENT
BEGIN:VEVENT
DTSTART;TZID=America/New_York:20250724T140000
DTEND;TZID=America/New_York:20250724T210000
DTSTAMP:20260423T173330
CREATED:20250705T201907Z
LAST-MODIFIED:20250705T201907Z
UID:9945-1753365600-1753390800@churchofthelakes.org
SUMMARY:Healing Ministries Fellowship Picnic
DESCRIPTION:Join us on Thursday\, July 24th\, 2:00 – 9:00 pm at the Jackson Township North Park Shelter. We’ll eat around 5:30 pm. This is for anyone who has been part of one of our GriefShare or DivorceCare Groups\, their families and potential participants. Bring a covered dish to share. Let Pastor Nancy know that you are attending.
URL:https://churchofthelakes.org/event/healing-ministries-fellowship-picnic/
LOCATION:Jackson North Park]\, 6600 Fulton Rd NW\, Massillon\, OH\, 44646
ATTACH;FMTTYPE=image/jpeg:https://churchofthelakes.org/wp-content/uploads/2018/09/Healing-Ministries-Slider-e1751746723199.jpg
ORGANIZER;CN="Nancy Conley":MAILTO:nancyc@churchofthelakes.org
END:VEVENT
END:VCALENDAR