BEGIN:VCALENDAR
VERSION:2.0
PRODID:-//Church of the Lakes - ECPv6.15.20//NONSGML v1.0//EN
CALSCALE:GREGORIAN
METHOD:PUBLISH
X-WR-CALNAME:Church of the Lakes
X-ORIGINAL-URL:https://churchofthelakes.org
X-WR-CALDESC:Events for Church of the Lakes
REFRESH-INTERVAL;VALUE=DURATION:PT1H
X-Robots-Tag:noindex
X-PUBLISHED-TTL:PT1H
BEGIN:VTIMEZONE
TZID:America/New_York
BEGIN:DAYLIGHT
TZOFFSETFROM:-0500
TZOFFSETTO:-0400
TZNAME:EDT
DTSTART:20240310T070000
END:DAYLIGHT
BEGIN:STANDARD
TZOFFSETFROM:-0400
TZOFFSETTO:-0500
TZNAME:EST
DTSTART:20241103T060000
END:STANDARD
BEGIN:DAYLIGHT
TZOFFSETFROM:-0500
TZOFFSETTO:-0400
TZNAME:EDT
DTSTART:20250309T070000
END:DAYLIGHT
BEGIN:STANDARD
TZOFFSETFROM:-0400
TZOFFSETTO:-0500
TZNAME:EST
DTSTART:20251102T060000
END:STANDARD
BEGIN:DAYLIGHT
TZOFFSETFROM:-0500
TZOFFSETTO:-0400
TZNAME:EDT
DTSTART:20260308T070000
END:DAYLIGHT
BEGIN:STANDARD
TZOFFSETFROM:-0400
TZOFFSETTO:-0500
TZNAME:EST
DTSTART:20261101T060000
END:STANDARD
BEGIN:DAYLIGHT
TZOFFSETFROM:-0500
TZOFFSETTO:-0400
TZNAME:EDT
DTSTART:20270314T070000
END:DAYLIGHT
BEGIN:STANDARD
TZOFFSETFROM:-0400
TZOFFSETTO:-0500
TZNAME:EST
DTSTART:20271107T060000
END:STANDARD
END:VTIMEZONE
BEGIN:VEVENT
DTSTART;TZID=America/New_York:20260417T150000
DTEND;TZID=America/New_York:20260418T170000
DTSTAMP:20260423T122541
CREATED:20260128T190231Z
LAST-MODIFIED:20260128T190231Z
UID:11872-1776438000-1776531600@churchofthelakes.org
SUMMARY:Women's Retreat
DESCRIPTION:Women’s Weekend Retreat with One Day Option- “Let’s Pray”\nSave the Date for our Women’s Retreat coming up on Friday\, April 17th – Saturday\, April 18th\, 2026 at the Carlisle Inn in Walnut Creek\, Ohio. Join us for a weekend of learning how Jesus taught us to pray through Bible Study and interactive prayer stations\, Praise\, Fellowship\, and Spiritual Rejuvenation. Angela Fritz will be our Featured Speaker\, Sharon and Brian Hayward will lead us in our Worship. Participants are responsible for making their own hotel reservations for Friday night through calling The Carlisle Inn of Walnut Creek at 330-893-3636. Additionally\, register for the retreat through the registration form available at the church office or use the link below. Though there is a one day option\, we highly encourage you to come for Friday and Saturday. The weekend retreat format has been changed to just Friday and Saturday in hopes of more women staying for both days. If you would like more information\, contact Angela Fritz. \nClick here to register online
URL:https://churchofthelakes.org/event/womens-retreat/
LOCATION:Carlisle Inn\, 4949 Walnut St\, Walnut Creek\, Ohio\, 44687
CATEGORIES:Explore
ATTACH;FMTTYPE=image/png:https://churchofthelakes.org/wp-content/uploads/2017/08/Womens-Ministries.png
ORGANIZER;CN="Angela Fritz":MAILTO:angela@churchofthelakes.org
END:VEVENT
BEGIN:VEVENT
DTSTART;TZID=America/New_York:20260325T173000
DTEND;TZID=America/New_York:20260325T193000
DTSTAMP:20260423T122541
CREATED:20260306T190736Z
LAST-MODIFIED:20260310T180344Z
UID:12140-1774459800-1774467000@churchofthelakes.org
SUMMARY:Easter Party
DESCRIPTION:You are invited to our Children’s Easter Party on Wednesday\, March 25th. The Children’s Easter party is for children in Kindergarten – 6th grades. The cost is only $5 and can be paid at the door. Dinner begins at 5:30 pm immediately followed with the Easter party. \nJoin us as we use a popular Easter Candy to celebrate the sweet news of Jesus coming to save us! Just like Peeps are Sweet\, Sticky\, Stretchy\, and Shiny\, Children will get to hear about a sweet day when Jesus rode into Jerusalem. They will play a sticky Easter egg game to remind them of the how things got sticky when the crowd turned on on Jesus calling for Him to be crucified. Kids will make slime to remember that Jesus stretched out His arms on the cross to save us because He loves us. Lastly the children will participate in a service project to shine the light to others that Jesus is alive! \nClick here to register
URL:https://churchofthelakes.org/event/easter-party/
LOCATION:Church of the Lakes\, 5944 Fulton Dr NW\, Canton\, OH\, 44718\, United States
CATEGORIES:Explore
ATTACH;FMTTYPE=image/jpeg:https://churchofthelakes.org/wp-content/uploads/2026/03/Childrens-Easter-Party-2026-title.jpg
ORGANIZER;CN="Angela Fritz":MAILTO:angela@churchofthelakes.org
END:VEVENT
BEGIN:VEVENT
DTSTART;TZID=America/New_York:20260221T083000
DTEND;TZID=America/New_York:20260221T163000
DTSTAMP:20260423T122541
CREATED:20251126T143738Z
LAST-MODIFIED:20251126T143738Z
UID:11118-1771662600-1771691400@churchofthelakes.org
SUMMARY:Men's Retreat
DESCRIPTION:Join with other men from the church for a Men’s Retreat on “Pursuit of Jesus” on Saturday\, February 21st. Retreat will be 8:30 am – 4:30 pm at at Camp Luz (152 Kidron Rd\, Orrville). Cost is $40 and includes breakfast and lunch. Register below by February 6th.
URL:https://churchofthelakes.org/event/mens-retreat/
LOCATION:Camp Luz\, 152 Kidron Rd\, Orrville\, OH\, United States
CATEGORIES:Explore
ATTACH;FMTTYPE=image/jpeg:https://churchofthelakes.org/wp-content/uploads/2025/11/Mens-Ministry-Retreat-e1764167811764.jpg
ORGANIZER;CN="Bryan George":MAILTO:Bryan@churchofthelakes.org
END:VEVENT
BEGIN:VEVENT
DTSTART;TZID=America/New_York:20260214T120000
DTEND;TZID=America/New_York:20260214T140000
DTSTAMP:20260423T122541
CREATED:20260106T203324Z
LAST-MODIFIED:20260106T203324Z
UID:11621-1771070400-1771077600@churchofthelakes.org
SUMMARY:Galentine's Day
DESCRIPTION:Attention all single women – Join us for Galentine’s Day on Saturday\, February 14th\, 12:00 pm at the Canal Grille\, 2223 Locust Street\, Canal Fulton. Enjoy a nice luncheon\, games\, door prizes\, and friendship. RSVP by February 12th\, to Sue Hoffmeyer\, 330-704-1774.
URL:https://churchofthelakes.org/event/galentines-day/
LOCATION:OH
CATEGORIES:Explore
ATTACH;FMTTYPE=image/png:https://churchofthelakes.org/wp-content/uploads/2017/08/Womens-Ministries.png
END:VEVENT
BEGIN:VEVENT
DTSTART;TZID=America/New_York:20260208T121500
DTEND;TZID=America/New_York:20260208T131500
DTSTAMP:20260423T122541
CREATED:20260116T185854Z
LAST-MODIFIED:20260116T185909Z
UID:11774-1770552900-1770556500@churchofthelakes.org
SUMMARY:Walk to Emmaus Info Meeting
DESCRIPTION:Learn about the Walk to Emmaus at an informational meeting on Sunday\, February 8th\, 12:15 – 1:15pm in room 201. Walk to Emmaus\, is a 72-hour Christian spiritual retreat\, based on the biblical story in Luke 24 where the risen Jesus joins two disciples on the road to Emmaus\, opening their eyes to His presence. It’s a transformational experience focused on spiritual renewal\, strengthening faith through talks\, small group discussions\, worship\, and prayer\, aiming to develop Christian disciples and leaders for action in their communities\, all within a supportive\, grace-filled environment. Open to all. Join us for information on this weekend retreat. Pizza and soda provided free of charge.
URL:https://churchofthelakes.org/event/emmaus-info-meeting/
LOCATION:Church of the Lakes\, 5944 Fulton Dr NW\, Canton\, OH\, 44718\, United States
CATEGORIES:Explore
ATTACH;FMTTYPE=image/jpeg:https://churchofthelakes.org/wp-content/uploads/2026/01/emmaus-e1768589881433.jpg
END:VEVENT
BEGIN:VEVENT
DTSTART;TZID=America/New_York:20260123T170000
DTEND;TZID=America/New_York:20260123T190000
DTSTAMP:20260423T122541
CREATED:20251117T210858Z
LAST-MODIFIED:20251117T210858Z
UID:11001-1769187600-1769194800@churchofthelakes.org
SUMMARY:Jesus in the Home - Family Fun Night
DESCRIPTION:All families are invited to join us for a evening of fellowship and fun. Bring the whole family to North Canton Entertainment Center on Friday\, January 23rd\, 5:00 – 7:00 pm. Cost is just $5 per person and includes dinner\, roller skating\, laser tag\, bumper cars\, and more. Register below by January 18th. \n 
URL:https://churchofthelakes.org/event/jesus-in-the-home-family-fun-night/
LOCATION:North Canton Entertainment Center\, 5475 Whipple Ave NW\, North Canton\, Ohio\, 44720
CATEGORIES:Explore
ATTACH;FMTTYPE=image/jpeg:https://churchofthelakes.org/wp-content/uploads/2021/08/Jesus-in-the-Home.jpg
ORGANIZER;CN="Cara Haley":MAILTO:cara@churchofthelakes.org
END:VEVENT
BEGIN:VEVENT
DTSTART;TZID=America/New_York:20260107T173000
DTEND;TZID=America/New_York:20260318T193000
DTSTAMP:20260423T122541
CREATED:20251111T194819Z
LAST-MODIFIED:20251125T190305Z
UID:10947-1767807000-1773862200@churchofthelakes.org
SUMMARY:TNT Winter
DESCRIPTION:Solving the Bible’s Toughest Cases!\nThis Winter kids will investigate Bible stories that tend to raise some serious questions. Kids will ask questions\, investigate the evidence\, and solve the case. During this detective themed TNT\, kids will learn that we can trust that God has a plan\, even if we don’t fully understand it. \nTNT “Together-N- Truth” is for children Kindergarten-4th grade. Our Fall semester is Wednesdays\, January 7th – March 18th. The cost is $5/week or $45 for the entire semester if paid in advance (this helps to cover the cost of dinner and supplies). \nOur explosive Wednesday evening programs ignite New Life through Jesus in children and youth by teaching the Word of God. Our desire is to create a powerful understanding of who Jesus is and how He can work in the lives of children to bring a dynamic transformation of their heart. \nWednesday Evenings begin with dinner at 5:30 pm followed by T-N-T from 6:00 to 7:30 pm: \nThis semester Children will rotate through 3 stations :\n1) Bible Discovery- encountering God’s presence through creating deeper Bible experiences\n2) Exploration Station- exploring God’s word through imagination and creativity to gain a deeper understanding\n3) Recreation- engaging scripture memorization through physical activities. \nClick here to see the weekly themes and dinner menu. For fun\, encourage your child to get decked-out for our weekly themes. For your child’s safety…please do not send children in flip flops. \nTo register your child for T-N-T click here.\nIf you have any questions or concerns contact Angela\, 330-499-8972.
URL:https://churchofthelakes.org/event/tnt-winter/
LOCATION:Church of the Lakes\, 5944 Fulton Dr NW\, Canton\, OH\, 44718\, United States
CATEGORIES:Explore
ATTACH;FMTTYPE=image/jpeg:https://churchofthelakes.org/wp-content/uploads/2020/11/TnT-Logo-Banner.jpg
ORGANIZER;CN="Angela Fritz":MAILTO:angela@churchofthelakes.org
END:VEVENT
BEGIN:VEVENT
DTSTART;TZID=America/New_York:20251218T170000
DTEND;TZID=America/New_York:20251218T200000
DTSTAMP:20260423T122541
CREATED:20251105T213400Z
LAST-MODIFIED:20251105T213400Z
UID:10841-1766077200-1766088000@churchofthelakes.org
SUMMARY:Women's Christmas Gala
DESCRIPTION:The Women’s Christmas Gala will be on Thursday\, December 18th at Massillon Woman’s Club. Doors open at 5:00 pm. Entertainment is from 5:30 – 6:00 pm in the upstairs ballroom\, and dinner will be around 6:10 pm.\nThe cost is $30 per person and is due to Sheri Grunwald by December 10th to secure your reservation. Reservations to be made in the Church office. Please put all your guests together when making your reservations so we can seat you all together. Make checks payable to Sheri Grunwald. \n  \n  \nIf you would like to donate gifts to our evenings drawing\, contact Sheri. We try to have a small gift for everyone attending. You can ask local businesses for donations for the occasion. We are asking everyone who attends to bring a microwavable food item to be donated to the Family Living Center in Massillon. \nContact Sheri Grunwald\,  330-806-1934.
URL:https://churchofthelakes.org/event/womens-christmas-gala/
LOCATION:Massillon Women’s Club\, 210 4th St NE\, Massillon\, Ohio\, 44646
CATEGORIES:Explore
ATTACH;FMTTYPE=image/png:https://churchofthelakes.org/wp-content/uploads/2017/08/Womens-Ministries.png
END:VEVENT
BEGIN:VEVENT
DTSTART;TZID=America/New_York:20251207T170000
DTEND;TZID=America/New_York:20251207T183000
DTSTAMP:20260423T122541
CREATED:20251003T195956Z
LAST-MODIFIED:20251003T204131Z
UID:10573-1765126800-1765132200@churchofthelakes.org
SUMMARY:Jesus in the Home Movie Night
DESCRIPTION:Join us for a Charlie Brown Christmas. Church families will get together on Sunday\, December 7th\, 5:00 pm\, for an evening of fun. We will start with dinner (pizza\, chips\, water\, juice boxes\, and more)\, followed by a time of fellowship and some Charlie Brown crafts and activities. We will then watch “A Charlie Brown Christmas”. Wear any Charlie Brown and Peanuts Character themed clothes and bring camp chairs for to use while you watch the movie. \nCost is just $3 per person\, click here to register by November 30th. \n 
URL:https://churchofthelakes.org/event/movie-night/
LOCATION:Church of the Lakes\, 5944 Fulton Dr NW\, Canton\, OH\, 44718\, United States
CATEGORIES:Explore
ATTACH;FMTTYPE=image/jpeg:https://churchofthelakes.org/wp-content/uploads/2021/08/Jesus-in-the-Home.jpg
ORGANIZER;CN="Cara Haley":MAILTO:cara@churchofthelakes.org
END:VEVENT
BEGIN:VEVENT
DTSTART;TZID=America/New_York:20251206T150000
DTEND;TZID=America/New_York:20251206T180000
DTSTAMP:20260423T122541
CREATED:20251105T212755Z
LAST-MODIFIED:20251111T192737Z
UID:10838-1765033200-1765044000@churchofthelakes.org
SUMMARY:East Ohio Emmanuel Emmaus Walk to the Manger
DESCRIPTION:The East Ohio Emmanuel Emmaus Community Annual ‘Walk to the Manger’ for Walk to Emmaus 4th Day will be hosted by Church of the Lakes on Saturday\, December 6th\, 3:00 – 6:00 pm. Music\, fellowship and a message by Pastor Jared Priset\, followed by a buffet dinner in the Activity Center. A freewill offering will be taken to support the GRACE6:8 ministry. With questions contact Deb Rupert\, 330-685-2419.
URL:https://churchofthelakes.org/event/walk-to-the-manger/
LOCATION:Church of the Lakes\, 5944 Fulton Dr NW\, Canton\, OH\, 44718\, United States
CATEGORIES:Explore
ATTACH;FMTTYPE=image/jpeg:https://churchofthelakes.org/wp-content/uploads/2025/11/emmaus-e1762378049525.jpg
END:VEVENT
BEGIN:VEVENT
DTSTART;TZID=America/New_York:20251203T173000
DTEND;TZID=America/New_York:20251203T194500
DTSTAMP:20260423T122541
CREATED:20251027T184901Z
LAST-MODIFIED:20251027T185141Z
UID:10725-1764783000-1764791100@churchofthelakes.org
SUMMARY:Children's Christmas Party
DESCRIPTION:The Carols of Christmas- Children’s Christmas Party\nYou are invited to our Children’s Christmas Party on Wednesday December 3rd. The Children’s Christmas party is for children in Kindergarten – 6th grades. The cost is only $5 and can be paid at the door. Dinner begins at 5:30 pm immediately followed with the Christmas party. \nSing the songs of Christmas. Children will get to experience the Christmas story through four classic Christmas carols performed by various Church of the Lakes chorus groups. We will have a candlelight worship service\, Bible story with angels and wise men\, wind-chime crafts\, a baby diaper service project\, and Boomwackers. \nClick here to register
URL:https://churchofthelakes.org/event/christmas-party/
LOCATION:Church of the Lakes\, 5944 Fulton Dr NW\, Canton\, OH\, 44718\, United States
CATEGORIES:Explore
ATTACH;FMTTYPE=image/png:https://churchofthelakes.org/wp-content/uploads/2025/10/Childrens-Christmas-Party-2025-Header-e1761591084937.png
ORGANIZER;CN="Angela Fritz":MAILTO:angela@churchofthelakes.org
END:VEVENT
BEGIN:VEVENT
DTSTART;TZID=America/New_York:20251127T120000
DTEND;TZID=America/New_York:20251127T140000
DTSTAMP:20260423T122541
CREATED:20250909T153924Z
LAST-MODIFIED:20250909T182338Z
UID:10422-1764244800-1764252000@churchofthelakes.org
SUMMARY:Thanksgiving Meal
DESCRIPTION:Join us for a family-style Thanksgiving Meal! Our hope is to offer an inviting place to celebrate the holiday for those without family in the area. There are a limited number of seats\, you MUST make a reservation by November 22nd. \nClick here to RSVP
URL:https://churchofthelakes.org/event/thanksgiving-meal/
LOCATION:Church of the Lakes\, 5944 Fulton Dr NW\, Canton\, OH\, 44718\, United States
CATEGORIES:Explore
ATTACH;FMTTYPE=image/jpeg:https://churchofthelakes.org/wp-content/uploads/2025/09/Thanksgiving-Meal-2018.jpg
END:VEVENT
BEGIN:VEVENT
DTSTART;TZID=America/New_York:20251124T183000
DTEND;TZID=America/New_York:20251124T193000
DTSTAMP:20260423T122541
CREATED:20251105T212408Z
LAST-MODIFIED:20251105T212408Z
UID:10835-1764009000-1764012600@churchofthelakes.org
SUMMARY:Annual Charge Conference
DESCRIPTION:The Annual Charge Conference will be held on Monday\, November 24th\, 6:30 pm in room 206. The purpose of the Charge Conference is to review committee nominations\, membership rolls and clergy salaries. All church members are welcome to attend.
URL:https://churchofthelakes.org/event/annual-charge-conference/
LOCATION:Church of the Lakes\, 5944 Fulton Dr NW\, Canton\, OH\, 44718\, United States
CATEGORIES:Explore
ATTACH;FMTTYPE=image/png:https://churchofthelakes.org/wp-content/uploads/2025/07/Conference-e1753276845188.png
END:VEVENT
BEGIN:VEVENT
DTSTART;TZID=America/New_York:20251102T083000
DTEND;TZID=America/New_York:20251107T163000
DTSTAMP:20260423T122541
CREATED:20251031T173728Z
LAST-MODIFIED:20251031T174445Z
UID:10767-1762072200-1762533000@churchofthelakes.org
SUMMARY:Heart Gallery
DESCRIPTION:Stark County JFS – Children Services Division organizes an annual art exhibit called the Heart Gallery\, which raises awareness about foster care and adoption in Stark County. The Heart Gallery pairs local artists with children in foster care who are awaiting adoption to create powerful\, heartfelt portraits. These portraits are then displayed in community spaces throughout the county to help share the children’s stories and bring attention to their need for loving\, permanent homes. \nThe Heart Gallery will be displayed in our entryway November 2nd – November 7th. \nYou can view the gallery during normal church and church office hours: \nSunday 8:00 am – 12:00 pm \nMonday – Friday 8:30 am – 4:30 pm
URL:https://churchofthelakes.org/event/heart-gallery/
LOCATION:Church of the Lakes\, 5944 Fulton Dr NW\, Canton\, OH\, 44718\, United States
CATEGORIES:Explore
ATTACH;FMTTYPE=image/jpeg:https://churchofthelakes.org/wp-content/uploads/2025/10/Heart-Gallery.jpg
END:VEVENT
BEGIN:VEVENT
DTSTART;TZID=America/New_York:20251018T143000
DTEND;TZID=America/New_York:20251018T160000
DTSTAMP:20260423T122541
CREATED:20250724T182403Z
LAST-MODIFIED:20250909T153021Z
UID:10080-1760797800-1760803200@churchofthelakes.org
SUMMARY:Trunk & Treat
DESCRIPTION:Join us for our annual community Trunk & Treat event. It will be in the Church parking lot. This is a safe\, free and fun Trick or Treating event that is open to the community. \nChildren and parents are encouraged to wear family-friendly costumes. \nIn case of rain\, this event will be canceled.
URL:https://churchofthelakes.org/event/trunk-treat/
LOCATION:Church of the Lakes\, 5944 Fulton Dr NW\, Canton\, OH\, 44718\, United States
CATEGORIES:Explore
ATTACH;FMTTYPE=image/jpeg:https://churchofthelakes.org/wp-content/uploads/2025/07/Trunk-Treat-scaled-e1753381437998.jpg
ORGANIZER;CN="Mardy DiGiacinto":MAILTO:Mardy@churchofthelakes.org
END:VEVENT
BEGIN:VEVENT
DTSTART;TZID=America/New_York:20250910T173000
DTEND;TZID=America/New_York:20251112T193000
DTSTAMP:20260423T122541
CREATED:20250723T131722Z
LAST-MODIFIED:20250723T131722Z
UID:10060-1757525400-1762975800@churchofthelakes.org
SUMMARY:TNT Fall
DESCRIPTION:Solving the Bible’s Toughest Cases!\nThis Fall kids will investigate Bible stories that tend to raise some serious questions. Kids will ask questions\, investigate the evidence\, and solve the case. During this detective themed TNT\, kids will learn that we can trust that God has a plan\, even if we don’t fully understand it. \nTNT “Together-N- Truth” is for children Kindergarten-4th grade. Our Fall semester is 10 weeks Wednesday\, September 10th – November 12th The cost is $5/week or $45 for the entire semester if paid in advance (this helps to cover the cost of dinner and supplies). \nOur explosive Wednesday evening programs ignite New Life through Jesus in children and youth by teaching the Word of God. Our desire is to create a powerful understanding of who Jesus is and how He can work in the lives of children to bring a dynamic transformation of their heart. \nWednesday Evenings begin with dinner at 5:30 pm followed by T-N-T from 6:00 to 7:30 pm: \nThis semester Children will rotate through 3 stations :\n1) Bible Discovery- encountering God’s presence through creating deeper Bible experiences\n2) Exploration Station- exploring God’s word through imagination and creativity to gain a deeper understanding\n3) Recreation- engaging scripture memorization through physical activities. \nClick here to see the weekly themes and dinner menu. For fun\, encourage your child to get decked-out for our weekly themes. For your child’s safety…please do not send children in flip flops. \nTo register your child for T-N-T click here.\nIf you have any questions or concerns contact Angela\, 330-499-8972.
URL:https://churchofthelakes.org/event/tnt-fall/
LOCATION:Church of the Lakes\, 5944 Fulton Dr NW\, Canton\, OH\, 44718\, United States
CATEGORIES:Explore
ATTACH;FMTTYPE=image/jpeg:https://churchofthelakes.org/wp-content/uploads/2020/11/TnT-Logo-Banner.jpg
ORGANIZER;CN="Angela Fritz":MAILTO:angela@churchofthelakes.org
END:VEVENT
END:VCALENDAR